BEGIN:VCALENDAR
VERSION:2.0
PRODID:-//Pfarrei Galgenen//NONSGML kigkonsult.se iCalcreator 2.16.12//
METHOD:PUBLISH
X-MS-OLK-FORCEINSPECTOROPEN:TRUE
BEGIN:VEVENT
UID:20260420T124644CEST-3483UEW4vf@Pfarrei Galgenen
DTSTAMP:20260420T104644Z
DESCRIPTION:Sie sind herzlich eingeladen\, gemeinsam mit den Schülern das t
 raditionelle\, frühmorgendliche Lichterfest zu feiern.\nFür das anschliess
 ende Frühstück im Martins-Träff bitten wir um ihre Anmeldung bis spätesten
 s 10. Dezember 2024\n 
DTSTART:20241213T063000
DTEND:20241213T080000
ORGANIZER:MAILTO:Pfarrei Galgenen <sekretariat@kg-galgenen.ch>
SUMMARY:Rorate mit den 3./4. Religionsklassen 
END:VEVENT
END:VCALENDAR
