BEGIN:VCALENDAR
VERSION:2.0
PRODID:-//Pfarrei Galgenen//NONSGML kigkonsult.se iCalcreator 2.16.12//
METHOD:PUBLISH
X-MS-OLK-FORCEINSPECTOROPEN:TRUE
BEGIN:VEVENT
UID:20260420T124426CEST-2648ovbOR5@Pfarrei Galgenen
DTSTAMP:20260420T104426Z
DESCRIPTION:Wir feiern zusammen mit den Firmanden den Vorstellungs-Gottesdi
 enst.\nIn der ganzen Schweiz wird an diesem Samstag für das Projekt «1 Mil
 lion Sterne» der Caritas Schweiz gesammelt. Auch wir beteiligen uns daran 
 und werden den Kirchenplatz in ein Lichtermeer von Kerzenlichtern verwande
 ln.\nNach dem Gottesdienst sind sie alle herzlich eingeladen\, die von den
  Firmanden selbst gebackenen Guezli und Punsch zu konsumieren\, zu Gunsten
  der Caritas Schweiz.\n 
DTSTART:20241214T180000
DTEND:20241214T200000
ORGANIZER:MAILTO:Pfarrei Galgenen <sekretariat@kg-galgenen.ch>
SUMMARY:Vorstellung unserer Firmanden von 2025
END:VEVENT
END:VCALENDAR
