BEGIN:VCALENDAR
VERSION:2.0
PRODID:-//Pfarrei Galgenen//NONSGML kigkonsult.se iCalcreator 2.16.12//
METHOD:PUBLISH
X-MS-OLK-FORCEINSPECTOROPEN:TRUE
BEGIN:VEVENT
UID:20260420T124551CEST-8506IGVlZu@Pfarrei Galgenen
DTSTAMP:20260420T104551Z
DESCRIPTION:Um 18.00 Uhr  kommt das Friedenslicht kommt in Lachen an. \nWir
  werden es um 19.00 Uhr  nach Galgenen in die Kirche bringen\, damit es be
 i einer kurzen Andacht\, von Hand zu Hand weitergeschenkt wird.\nAnschlies
 send sind sie herzlich zu einem gemütlichen Umtrunk eingeladen. Holen sie 
 das Licht des Friedens zu ihnen ins Haus.\nWenn es nicht möglich ist\, das
  Licht vor Ort zu hohlen\, bringen wir es auch sehr gerne nach Hause!\n 
DTSTART:20241217T190000
DTEND:20241217T210000
ORGANIZER:MAILTO:Pfarrei Galgenen <sekretariat@kg-galgenen.ch>
SUMMARY:Das Friedenslicht kommt nach Galgenen
END:VEVENT
END:VCALENDAR
