BEGIN:VCALENDAR
VERSION:2.0
PRODID:-//Pfarrei Galgenen//NONSGML kigkonsult.se iCalcreator 2.16.12//
METHOD:PUBLISH
X-MS-OLK-FORCEINSPECTOROPEN:TRUE
BEGIN:VEVENT
UID:20260420T124740CEST-3665rLw7WG@Pfarrei Galgenen
DTSTAMP:20260420T104740Z
DESCRIPTION:'Und Friede den Menschen auf Erden'\nSo singen die Engel bei de
 r Ankündigung von Jesus Geburt.\nAn dieser Versöhungsfeier laden wir den F
 rieden in unsere Herzen ein und bereiten uns auf das Weihnachtsfest vor. 
 \n\n 
DTSTART:20241219T193000
DTEND:20241219T203000
ORGANIZER:MAILTO:Pfarrei Galgenen <sekretariat@kg-galgenen.ch>
SUMMARY:Versöhnungsfeier für Kinder und Erwachsene
END:VEVENT
END:VCALENDAR
