BEGIN:VCALENDAR
VERSION:2.0
PRODID:-//Pfarrei Galgenen//NONSGML kigkonsult.se iCalcreator 2.16.12//
METHOD:PUBLISH
X-MS-OLK-FORCEINSPECTOROPEN:TRUE
BEGIN:VEVENT
UID:20260422T104944CEST-79012ua9DX@Pfarrei Galgenen
DTSTAMP:20260422T084944Z
DESCRIPTION:Das Krippenspiel mit Kommunionfeier wird von unseren Religionss
 chülern mitgestaltet.\nFabienne und Matthias Bisig werden die Feier musika
 lisch begleiten.
DTSTART:20241224T160000
DTEND:20241224T170000
ORGANIZER:MAILTO:Pfarrei Galgenen <sekretariat@kg-galgenen.ch>
SUMMARY:Krippenspiel mit Kommunionfeier
END:VEVENT
END:VCALENDAR
