BEGIN:VCALENDAR
VERSION:2.0
PRODID:-//Pfarrei Galgenen//NONSGML kigkonsult.se iCalcreator 2.16.12//
METHOD:PUBLISH
X-MS-OLK-FORCEINSPECTOROPEN:TRUE
BEGIN:VEVENT
UID:20260420T124822CEST-84489IuAuG@Pfarrei Galgenen
DTSTAMP:20260420T104822Z
DESCRIPTION:Festlicher Gottesdienst\, musikalisch begleitet von Anita Schwy
 ter mit der Trompete und Andreas Dietehlm an der Orgel.\n 
DTSTART:20241224T180000
DTEND:20241224T170000
ORGANIZER:MAILTO:Pfarrei Galgenen <sekretariat@kg-galgenen.ch>
SUMMARY:Heiligabend Messe 
END:VEVENT
END:VCALENDAR
