BEGIN:VCALENDAR
VERSION:2.0
PRODID:-//Pfarrei Galgenen//NONSGML kigkonsult.se iCalcreator 2.16.12//
METHOD:PUBLISH
X-MS-OLK-FORCEINSPECTOROPEN:TRUE
BEGIN:VEVENT
UID:20260420T124834CEST-73965MFc6x@Pfarrei Galgenen
DTSTAMP:20260420T104834Z
DESCRIPTION:Festgottesdienst\, musikalisch begleitet vom Kirchenchor\, Fabi
 enne Bisig und Andreas Diethelm.\n 
DTSTART:20241225T093000
DTEND:20241225T103000
ORGANIZER:MAILTO:Pfarrei Galgenen <sekretariat@kg-galgenen.ch>
SUMMARY:Weihnachtsmesse 
END:VEVENT
END:VCALENDAR
