BEGIN:VCALENDAR
VERSION:2.0
PRODID:-//Pfarrei Galgenen//NONSGML kigkonsult.se iCalcreator 2.16.12//
METHOD:PUBLISH
X-MS-OLK-FORCEINSPECTOROPEN:TRUE
BEGIN:VEVENT
UID:20260420T124747CEST-8457UVtAUr@Pfarrei Galgenen
DTSTAMP:20260420T104747Z
DESCRIPTION:Die Hirten waren damals die ersten an der Krippe.\nSo laden wir
  in früher Stunde zu einer Hirtenandacht in die Kirche ein\nund begrüssen 
 den Hirten Elay an der Krippe.  \n 
DTSTART:20241225T081500
DTEND:20241225T084500
ORGANIZER:MAILTO:Pfarrei Galgenen <sekretariat@kg-galgenen.ch>
SUMMARY:Ankunft des Hirten Elay in der Pfarrkirche 
END:VEVENT
END:VCALENDAR
