BEGIN:VCALENDAR
VERSION:2.0
PRODID:-//Pfarrei Galgenen//NONSGML kigkonsult.se iCalcreator 2.16.12//
METHOD:PUBLISH
X-MS-OLK-FORCEINSPECTOROPEN:TRUE
BEGIN:VEVENT
UID:20260420T123011CEST-6529AgKwuT@Pfarrei Galgenen
DTSTAMP:20260420T103011Z
DESCRIPTION:Gottesdienst mit Br. Willi Anderau vom Kloster Rapperswil\,\nmu
 sikalisch begleitet von Urban Huber an der Klarinette und Andreas Diethelm
  an der Orgel\n 
DTSTART:20241226T093000
DTEND:20241226T103000
ORGANIZER:MAILTO:Pfarrei Galgenen <sekretariat@kg-galgenen.ch>
SUMMARY:Stephanstag 
END:VEVENT
END:VCALENDAR
