BEGIN:VCALENDAR
VERSION:2.0
PRODID:-//Pfarrei Galgenen//NONSGML kigkonsult.se iCalcreator 2.16.12//
METHOD:PUBLISH
X-MS-OLK-FORCEINSPECTOROPEN:TRUE
BEGIN:VEVENT
UID:20260420T124554CEST-0382K1Zjcv@Pfarrei Galgenen
DTSTAMP:20260420T104554Z
DESCRIPTION:Frohe Eucharistiefeier zum Fasnachts-Sonntag.
DTSTART:20250302T093000
DTEND:20250302T103000
ORGANIZER:MAILTO:Pfarrei Galgenen <sekretariat@kg-galgenen.ch>
SUMMARY:Fasnachts-Sonntag
END:VEVENT
END:VCALENDAR
