BEGIN:VCALENDAR
VERSION:2.0
PRODID:-//Pfarrei Galgenen//NONSGML kigkonsult.se iCalcreator 2.16.12//
METHOD:PUBLISH
X-MS-OLK-FORCEINSPECTOROPEN:TRUE
BEGIN:VEVENT
UID:20260422T111345CEST-36066ahSOP@Pfarrei Galgenen
DTSTAMP:20260422T091345Z
DESCRIPTION:In der Fastenzeit\, vom 7. März - 12. April lädt der Versöhnung
 sweg in 6 Stationen dazu ein\, sich mit sich selbst\, mit Anderen und mit 
 Gott zu versöhnen. Die Stationen bieten Impulse zum Nachdenken und unterst
 ützen den persönlichen Schritt der Versöhnung.\nDer Weg kann individuell o
 der mit einer Begleitperson begangen werden\, wann immer es passt. Nehmen 
 Sie sich Zeit für diesen besonderen Weg der Besinnung und Erneuerung. \n 
DTSTART:20250307T000000
DTEND:20250412T000000
ORGANIZER:MAILTO:Pfarrei Galgenen <sekretariat@kg-galgenen.ch>
SUMMARY:VERSÖHNUNGSWEG - Ein Weg für Jung und Alt
END:VEVENT
END:VCALENDAR
