BEGIN:VCALENDAR
VERSION:2.0
PRODID:-//Pfarrei Galgenen//NONSGML kigkonsult.se iCalcreator 2.16.12//
METHOD:PUBLISH
X-MS-OLK-FORCEINSPECTOROPEN:TRUE
BEGIN:VEVENT
UID:20260420T124632CEST-6069fDJHmZ@Pfarrei Galgenen
DTSTAMP:20260420T104632Z
DESCRIPTION:Um 09.30 Uhr feiern wir keinen Gottesdienst!\n19.30 Uhr  Euchar
 istiefeier in der Pfarrkirche\, mit Austeilung der geweihten Asche \n 
DTSTART:20250305T193000
DTEND:20250305T203000
ORGANIZER:MAILTO:Pfarrei Galgenen <sekretariat@kg-galgenen.ch>
SUMMARY:Aschermittwoch 
END:VEVENT
END:VCALENDAR
