BEGIN:VCALENDAR
VERSION:2.0
PRODID:-//Pfarrei Galgenen//NONSGML kigkonsult.se iCalcreator 2.16.12//
METHOD:PUBLISH
X-MS-OLK-FORCEINSPECTOROPEN:TRUE
BEGIN:VEVENT
UID:20260420T122941CEST-70068Xu1OE@Pfarrei Galgenen
DTSTAMP:20260420T102941Z
DESCRIPTION:Eucharistiefeier mit Impulsen zur Fastenzeit\, von Christina Ma
 riño und Br. Patrik Schäfli\n 
DTSTART:20250309T093000
DTEND:20250309T103000
ORGANIZER:MAILTO:Pfarrei Galgenen <sekretariat@kg-galgenen.ch>
SUMMARY:Impuls zur Fastenzeit
END:VEVENT
END:VCALENDAR
