BEGIN:VCALENDAR
VERSION:2.0
PRODID:-//Pfarrei Galgenen//NONSGML kigkonsult.se iCalcreator 2.16.12//
METHOD:PUBLISH
X-MS-OLK-FORCEINSPECTOROPEN:TRUE
BEGIN:VEVENT
UID:20260420T122824CEST-0040DZnvGj@Pfarrei Galgenen
DTSTAMP:20260420T102824Z
DESCRIPTION:Im Martins-Träff kochen wir für die Schüler und ihre Begleitper
 sonen eine feine Minestronesuppe.\nBringen sie Gemüse das verwertet werden
  muss (ab dem Mittwoch\, 12. März) zu uns ins Pfarramt.\nWir werden daraus
  eine feine Minestrone kochen!\nAchtung: Dieser Anlass ist anmeldepflichti
 g!\n 
DTSTART:20250314T113000
DTEND:20250314T130000
ORGANIZER:MAILTO:Pfarrei Galgenen <sekretariat@kg-galgenen.ch>
SUMMARY:Schüler Suppenzmittag 
END:VEVENT
END:VCALENDAR
