BEGIN:VCALENDAR
VERSION:2.0
PRODID:-//Pfarrei Galgenen//NONSGML kigkonsult.se iCalcreator 2.16.12//
METHOD:PUBLISH
X-MS-OLK-FORCEINSPECTOROPEN:TRUE
BEGIN:VEVENT
UID:20260420T124740CEST-7463jxM4sz@Pfarrei Galgenen
DTSTAMP:20260420T104740Z
DESCRIPTION:Gottesdienst mit ASHIA\, in der Pfarrkirche\nIm Anschluss servi
 eren wir im Martins-Träff eine feine Suppe.\n\n         \n 
DTSTART:20250316T093000
DTEND:20250316T140000
ORGANIZER:MAILTO:Pfarrei Galgenen <sekretariat@kg-galgenen.ch>
SUMMARY:SUPPENTAG IM MARTINS-TRÄFF 
END:VEVENT
END:VCALENDAR
