BEGIN:VCALENDAR
VERSION:2.0
PRODID:-//Pfarrei Galgenen//NONSGML kigkonsult.se iCalcreator 2.16.12//
METHOD:PUBLISH
X-MS-OLK-FORCEINSPECTOROPEN:TRUE
BEGIN:VEVENT
UID:20260420T124645CEST-95481ICsI9@Pfarrei Galgenen
DTSTAMP:20260420T104645Z
DESCRIPTION:An diesem Sonntag wird die Uhr um eine Stunde vorgestellt! \n  
         \n 
DTSTART:20250330T030000
DTEND:20250330T030000
ORGANIZER:MAILTO:Pfarrei Galgenen <sekretariat@kg-galgenen.ch>
SUMMARY:Zeitumstellung auf die Sommerzeit! 
END:VEVENT
END:VCALENDAR
