BEGIN:VCALENDAR
VERSION:2.0
PRODID:-//Pfarrei Galgenen//NONSGML kigkonsult.se iCalcreator 2.16.12//
METHOD:PUBLISH
X-MS-OLK-FORCEINSPECTOROPEN:TRUE
BEGIN:VEVENT
UID:20260420T125757CEST-8969LV3J8Z@Pfarrei Galgenen
DTSTAMP:20260420T105757Z
DESCRIPTION:Alle Spaziergänger\, Kirchenbesucher und Bürger sind herzlich z
 u einem gemütlichen\nSonntagskafi eingeladen. \nWir freuen uns auf Sie :-)
  \n 
DTSTART:20250330T100000
DTEND:20250330T120000
ORGANIZER:MAILTO:Pfarrei Galgenen <sekretariat@kg-galgenen.ch>
SUMMARY:Sunntigskafi für ALLI 
END:VEVENT
END:VCALENDAR
