BEGIN:VCALENDAR
VERSION:2.0
PRODID:-//Pfarrei Galgenen//NONSGML kigkonsult.se iCalcreator 2.16.12//
METHOD:PUBLISH
X-MS-OLK-FORCEINSPECTOROPEN:TRUE
BEGIN:VEVENT
UID:20260422T111426CEST-3467VC4uSJ@Pfarrei Galgenen
DTSTAMP:20260422T091426Z
DESCRIPTION:Wir laden zum Familienfilm „Pünktchen und Anton“ in die Kirche 
 ein!\nEine herzerwärmende Geschichte über Freundschaft\, Ehrlichkeit und V
 ersöhnung – perfekt für die Fastenzeit. Natürlich gibt es in der Pause Pop
 corn!\nKommt vorbei\, wir freuen uns auf euch!\n\n 
DTSTART:20250411T193000
DTEND:20250411T220000
ORGANIZER:MAILTO:Pfarrei Galgenen <sekretariat@kg-galgenen.ch>
SUMMARY:Familienabend für die ganze Familie
END:VEVENT
END:VCALENDAR
