BEGIN:VCALENDAR
VERSION:2.0
PRODID:-//Pfarrei Galgenen//NONSGML kigkonsult.se iCalcreator 2.16.12//
METHOD:PUBLISH
X-MS-OLK-FORCEINSPECTOROPEN:TRUE
BEGIN:VEVENT
UID:20260420T124822CEST-96313zuUXW@Pfarrei Galgenen
DTSTAMP:20260420T104822Z
DESCRIPTION:Eucharistiefeier\, mitgestaltet von der Jubla\,\nTreffpunkt vor
  dem Martins-Träff\, Segnung der Palmzweige\, anschliessend Einzug in die 
 Pfarrkirche\n 
DTSTART:20250413T093000
DTEND:20250413T103000
ORGANIZER:MAILTO:Pfarrei Galgenen <sekretariat@kg-galgenen.ch>
SUMMARY:Palmsonntag 
END:VEVENT
END:VCALENDAR
