BEGIN:VCALENDAR
VERSION:2.0
PRODID:-//Pfarrei Galgenen//NONSGML kigkonsult.se iCalcreator 2.16.12//
METHOD:PUBLISH
X-MS-OLK-FORCEINSPECTOROPEN:TRUE
BEGIN:VEVENT
UID:20260422T111426CEST-6632k8tVde@Pfarrei Galgenen
DTSTAMP:20260422T091426Z
DESCRIPTION:Abendmahlsfeier mit den Erstkommunion Kindern und ihren Angehör
 igen\, alle sind herzlich eingeladen!\n 
DTSTART:20250417T180000
DTEND:20250417T190000
ORGANIZER:MAILTO:Pfarrei Galgenen <sekretariat@kg-galgenen.ch>
SUMMARY:Hoher Donnerstag 
END:VEVENT
END:VCALENDAR
