BEGIN:VCALENDAR
VERSION:2.0
PRODID:-//Pfarrei Galgenen//NONSGML kigkonsult.se iCalcreator 2.16.12//
METHOD:PUBLISH
X-MS-OLK-FORCEINSPECTOROPEN:TRUE
BEGIN:VEVENT
UID:20260424T110031CEST-3364DWEjBM@Pfarrei Galgenen
DTSTAMP:20260424T090031Z
DESCRIPTION:09.30 Uhr \nFamilienkreuzweg mit anschliessendem kreativen Gest
 alten im Martins-Träff\,\nzum Thema Karfreitag und Ostern.\n\n15.00 Uhr \n
 Karfreitagsliturgie zum Leiden und Sterben Christi\, musikalisch mitgestal
 tet von den Kantoren.\nOhne Kommunionspendung\n 
DTSTART:20250418T000000
DTEND:20250418T000000
ORGANIZER:MAILTO:Pfarrei Galgenen <sekretariat@kg-galgenen.ch>
SUMMARY:Karfreitag 
END:VEVENT
END:VCALENDAR
