BEGIN:VCALENDAR
VERSION:2.0
PRODID:-//Pfarrei Galgenen//NONSGML kigkonsult.se iCalcreator 2.16.12//
METHOD:PUBLISH
X-MS-OLK-FORCEINSPECTOROPEN:TRUE
BEGIN:VEVENT
UID:20260420T124823CEST-9181w6dfo1@Pfarrei Galgenen
DTSTAMP:20260420T104823Z
DESCRIPTION:05.45 Uhr \nAuferstehungsliturgie\nTreffpunkt beim Osterfeuer v
 or der Totenkapelle\, Gang durch den Friedhof zur Pfarrkirche.\nIm Anschlu
 ss „Eiertütschen“ im Martins-Träff.\n\n09.30 Uhr  \nFestgottesdienst unter
  Mitwirkung unseres Kirchenchors\n 
DTSTART:20250420T000000
DTEND:20250420T000000
ORGANIZER:MAILTO:Pfarrei Galgenen <sekretariat@kg-galgenen.ch>
SUMMARY:Ostersonntag 
END:VEVENT
END:VCALENDAR
