BEGIN:VCALENDAR
VERSION:2.0
PRODID:-//Pfarrei Galgenen//NONSGML kigkonsult.se iCalcreator 2.16.12//
METHOD:PUBLISH
X-MS-OLK-FORCEINSPECTOROPEN:TRUE
BEGIN:VEVENT
UID:20260422T111731CEST-24777sdmLL@Pfarrei Galgenen
DTSTAMP:20260422T091731Z
DESCRIPTION:Eucharistiefeier (ohne Predigt) in der Pfarrkirche.\n 
DTSTART:20250421T093000
DTEND:20250421T100000
ORGANIZER:MAILTO:Pfarrei Galgenen <sekretariat@kg-galgenen.ch>
SUMMARY:Ostermontag 
END:VEVENT
END:VCALENDAR
