BEGIN:VCALENDAR
VERSION:2.0
PRODID:-//Pfarrei Galgenen//NONSGML kigkonsult.se iCalcreator 2.16.12//
METHOD:PUBLISH
X-MS-OLK-FORCEINSPECTOROPEN:TRUE
BEGIN:VEVENT
UID:20260422T150506CEST-4605uiz7pg@Pfarrei Galgenen
DTSTAMP:20260422T130506Z
DESCRIPTION:Die 3. Klassen feiern ihre Erstkommunion.\nApero nach dem Festg
 ottesdienst\, umrahmt vom Musikverein Galgenen\n\n10.00 – 12.00 Uhr Sunnti
 gskafi für ALLI im Martins-Träff\n 
DTSTART:20250427T000000
DTEND:20250427T000000
ORGANIZER:MAILTO:Pfarrei Galgenen <sekretariat@kg-galgenen.ch>
SUMMARY:Weisser Sonntag 
END:VEVENT
END:VCALENDAR
