BEGIN:VCALENDAR
VERSION:2.0
PRODID:-//Pfarrei Galgenen//NONSGML kigkonsult.se iCalcreator 2.16.12//
METHOD:PUBLISH
X-MS-OLK-FORCEINSPECTOROPEN:TRUE
BEGIN:VEVENT
UID:20260422T105805CEST-1443opmNtP@Pfarrei Galgenen
DTSTAMP:20260422T085805Z
DESCRIPTION:LICHT AUS - FILM AB!  KirchenKino-Znacht\nSie sind herlich eing
 eladen\, zu einem besonderen Filmabend mit einfachem Essen\, spannenden Ge
 sprächen und gemütlicher Gemeinschaft!\nWir starten den Abend mit einem ei
 nfachen Z'Nacht in geselliger Runde im Martins-Träff. Anschließend schauen
  wir in der Kirche gemeinsam den Film „Contra“ – eine humorvolle und zugle
 ich tiefgründige Geschichte über Vorurteile\, Schlagfertigkeit und die Kra
 ft der Sprache.\nIn der Pause gibt es einen kleinen Apéro\, und nach dem F
 ilm laden wir euch zu Dessert & Diskussion ein. Gemeinsam tauschen wir Ged
 anken und Eindrücke zum Film aus.\n\nEs ist  keine Anmeldung nötig – einfa
 ch vorbeikommen und genießen!\nEintritt frei - Kollekte\nWir freuen uns au
 f euch!\n 
DTSTART:20250605T190000
DTEND:20250605T220000
ORGANIZER:MAILTO:Pfarrei Galgenen <sekretariat@kg-galgenen.ch>
SUMMARY:JUBILÄUMSANLASS 
END:VEVENT
END:VCALENDAR
