BEGIN:VCALENDAR
VERSION:2.0
PRODID:-//Pfarrei Galgenen//NONSGML kigkonsult.se iCalcreator 2.16.12//
METHOD:PUBLISH
X-MS-OLK-FORCEINSPECTOROPEN:TRUE
BEGIN:VEVENT
UID:20260420T124645CEST-3365TIDntt@Pfarrei Galgenen
DTSTAMP:20260420T104645Z
DESCRIPTION:Kirchenführung zur Architektur der Pfarrkirche St. Martin in Ga
 lgenen\, mit Toni Schnellmann\n 
DTSTART:20250504T103000
DTEND:20250504T113000
ORGANIZER:MAILTO:Pfarrei Galgenen <sekretariat@kg-galgenen.ch>
SUMMARY:JUBILÄUMSANLASS 
END:VEVENT
END:VCALENDAR
