BEGIN:VCALENDAR
VERSION:2.0
PRODID:-//Pfarrei Galgenen//NONSGML kigkonsult.se iCalcreator 2.16.12//
METHOD:PUBLISH
X-MS-OLK-FORCEINSPECTOROPEN:TRUE
BEGIN:VEVENT
UID:20260420T130611CEST-3924BuxUWc@Pfarrei Galgenen
DTSTAMP:20260420T110611Z
DESCRIPTION:Muttertags-Gottesdienst mitgestaltet von den 5. Klassen\, musik
 alisch begleitetet vom Kinderchor Altendorf.\nIm Anschluss servieren wir e
 inen Apero\n 
DTSTART:20250511T093000
DTEND:20250511T103000
ORGANIZER:MAILTO:Pfarrei Galgenen <sekretariat@kg-galgenen.ch>
SUMMARY:Muttertags-Gottesdienst 
END:VEVENT
END:VCALENDAR
