BEGIN:VCALENDAR
VERSION:2.0
PRODID:-//Pfarrei Galgenen//NONSGML kigkonsult.se iCalcreator 2.16.12//
METHOD:PUBLISH
X-MS-OLK-FORCEINSPECTOROPEN:TRUE
BEGIN:VEVENT
UID:20260420T122755CEST-6335pzU94m@Pfarrei Galgenen
DTSTAMP:20260420T102755Z
DESCRIPTION:Maiandacht in der Jostenkapelle\, mitgestaltet von der FMG Galg
 enen\, musikalisch begleitet von Familie Suter.\nIm Anschluss serviert die
  FMG einen Apero\n 
DTSTART:20250515T193000
DTEND:20250515T203000
ORGANIZER:MAILTO:Pfarrei Galgenen <sekretariat@kg-galgenen.ch>
SUMMARY:Maiandacht in der Jostenkapelle\, mit der FMG
END:VEVENT
END:VCALENDAR
