BEGIN:VCALENDAR
VERSION:2.0
PRODID:-//Pfarrei Galgenen//NONSGML kigkonsult.se iCalcreator 2.16.12//
METHOD:PUBLISH
X-MS-OLK-FORCEINSPECTOROPEN:TRUE
BEGIN:VEVENT
UID:20260422T111607CEST-4202vl0ax1@Pfarrei Galgenen
DTSTAMP:20260422T091607Z
DESCRIPTION:Maiandacht in der Jostenkapelle\, musikalisch begleitet von Ste
 fan Kessler am Akkordeon\n 
DTSTART:20250522T193000
DTEND:20250522T200000
ORGANIZER:MAILTO:Pfarrei Galgenen <sekretariat@kg-galgenen.ch>
SUMMARY:Maiandacht in der Jostenkapelle 
END:VEVENT
END:VCALENDAR
