BEGIN:VCALENDAR
VERSION:2.0
PRODID:-//Pfarrei Galgenen//NONSGML kigkonsult.se iCalcreator 2.16.12//
METHOD:PUBLISH
X-MS-OLK-FORCEINSPECTOROPEN:TRUE
BEGIN:VEVENT
UID:20260420T124747CEST-8464FBfRU1@Pfarrei Galgenen
DTSTAMP:20260420T104747Z
DESCRIPTION:Jubiläumskonzert zum 60 jährigen Bestehen des kath. Kirchenchor
 s Pfäffikon SZ\nSie präsentieren gemeinsam mit dem Sinfonieorchester des K
 anton Schwyz (SOKS)\ndas grosse Oratorium 'Die Schöpfung'\, von Joseph Hay
 don\nFreier Eintritt - Kollekte \n 
DTSTART:20250524T193000
DTEND:20250524T203000
ORGANIZER:MAILTO:Pfarrei Galgenen <sekretariat@kg-galgenen.ch>
SUMMARY:JUBILÄUMSANLASS 
END:VEVENT
END:VCALENDAR
