BEGIN:VCALENDAR
VERSION:2.0
PRODID:-//Pfarrei Galgenen//NONSGML kigkonsult.se iCalcreator 2.16.12//
METHOD:PUBLISH
X-MS-OLK-FORCEINSPECTOROPEN:TRUE
BEGIN:VEVENT
UID:20260420T122817CEST-6759vrrVN2@Pfarrei Galgenen
DTSTAMP:20260420T102817Z
DESCRIPTION:Bei guter Witterung:\nMaiandacht bei der Maria Immerhilf Kapell
 e\, musikalisch begleitet von Werni Kessler am Schwyzerörgeli. \n 
DTSTART:20250529T193000
DTEND:20250529T200000
ORGANIZER:MAILTO:Pfarrei Galgenen <sekretariat@kg-galgenen.ch>
SUMMARY:Maiandacht bei der Maria Immerhilf Kapelle
END:VEVENT
END:VCALENDAR
