BEGIN:VCALENDAR
VERSION:2.0
PRODID:-//Pfarrei Galgenen//NONSGML kigkonsult.se iCalcreator 2.16.12//
METHOD:PUBLISH
X-MS-OLK-FORCEINSPECTOROPEN:TRUE
BEGIN:VEVENT
UID:20260420T124632CEST-9108ATAMeU@Pfarrei Galgenen
DTSTAMP:20260420T104632Z
DESCRIPTION:Festgottesdienst musikalisch begleitet von unserem Kirchenchor
 \n 
DTSTART:20250529T093000
DTEND:20250529T103000
ORGANIZER:MAILTO:Pfarrei Galgenen <sekretariat@kg-galgenen.ch>
SUMMARY:Christi Himmelfahrt 
END:VEVENT
END:VCALENDAR
