BEGIN:VCALENDAR
VERSION:2.0
PRODID:-//Pfarrei Galgenen//NONSGML kigkonsult.se iCalcreator 2.16.12//
METHOD:PUBLISH
X-MS-OLK-FORCEINSPECTOROPEN:TRUE
BEGIN:VEVENT
UID:20260420T124552CEST-1441o4LKCL@Pfarrei Galgenen
DTSTAMP:20260420T104552Z
DESCRIPTION:Firmung der 6. Klassen mit Firmspender Abt Christian Meyer\, OS
 B Engelberg  \n Apero nach dem Festgottesdienst\, umrahmt vom Musikverein 
 Galgenen\n 
DTSTART:20250601T093000
DTEND:20250601T103000
ORGANIZER:MAILTO:Pfarrei Galgenen <sekretariat@kg-galgenen.ch>
SUMMARY:Firmung der 6. Klassen 
END:VEVENT
END:VCALENDAR
