BEGIN:VCALENDAR
VERSION:2.0
PRODID:-//Pfarrei Galgenen//NONSGML kigkonsult.se iCalcreator 2.16.12//
METHOD:PUBLISH
X-MS-OLK-FORCEINSPECTOROPEN:TRUE
BEGIN:VEVENT
UID:20260420T124634CEST-1274uunu52@Pfarrei Galgenen
DTSTAMP:20260420T104634Z
DESCRIPTION:Gottesdienst ohne Predigt!\n 
DTSTART:20250609T093000
DTEND:20250609T100000
ORGANIZER:MAILTO:Pfarrei Galgenen <sekretariat@kg-galgenen.ch>
SUMMARY:Pfingstmontag 
END:VEVENT
END:VCALENDAR
