BEGIN:VCALENDAR
VERSION:2.0
PRODID:-//Pfarrei Galgenen//NONSGML kigkonsult.se iCalcreator 2.16.12//
METHOD:PUBLISH
X-MS-OLK-FORCEINSPECTOROPEN:TRUE
BEGIN:VEVENT
UID:20260420T124740CEST-0708VaMnnF@Pfarrei Galgenen
DTSTAMP:20260420T104740Z
DESCRIPTION:Achtung: neue Strecke/Organisation:\n Kein Gottesdienst um 9.30
  Uhr!\n        \n04.00 Uhr: Die Firmlinge und Wanderfreudige treffen sich 
 bei trockener Witterung um 4.00 Uhr in der Jostenkapelle Galgenen\,\nzur W
 anderung nach Einsiedeln (bei unsicherer Witterung gibt Adelbert Hüppin\, 
 N: 079 902 90 37 ab 03.30 Uhr Auskunft).\n07.45 Uhr:  Bei unsicherer Wette
 rlage ist der Treffpunkt zum gemeinsamen Frühstück direkt in der Bäckerei 
 Winet in Willerzell.\nFür Kinder bis und mit der 6. Klasse ist das Frühstü
 ck kostenlos.\n08.45 Uhr:   Bringt das Schiff die Pilger auf die andere Se
 eseite\, um zu Fuss den restlichen Pilgerweg nach Einsiedeln zurückzulegen
 .\nDieser kann wahlweise auch mit dem Bus gemacht werden.\n11.00 Uhr:  Euc
 haristiefeier mit Br. Patrik im Oratorium (Oberkirche des Kloster Einsiede
 ln).\n\nInformation:\nDie Wallfahrtsanmeldung für Frühstück/Schifffahrt is
 t verbindlich\, da wir Reservationen vornehmen müssen.\nDie Kosten für das
  Frühstück der Kinder bis und mit der 6. Klasse übernimmt die Pfarrei Galg
 enen.\nAnmeldungen sind im Pfarramt mündlich\, telefonisch oder per Mail b
 is spätestens am Dienstag\, 10. Juni möglich.\n 
DTSTART:20250615T040000
DTEND:20250615T120000
ORGANIZER:MAILTO:Pfarrei Galgenen <sekretariat@kg-galgenen.ch>
SUMMARY:Wallfahrt nach Einsiedeln 
END:VEVENT
END:VCALENDAR
