BEGIN:VCALENDAR
VERSION:2.0
PRODID:-//Pfarrei Galgenen//NONSGML kigkonsult.se iCalcreator 2.16.12//
METHOD:PUBLISH
X-MS-OLK-FORCEINSPECTOROPEN:TRUE
BEGIN:VEVENT
UID:20260420T125736CEST-9488pOsizM@Pfarrei Galgenen
DTSTAMP:20260420T105736Z
DESCRIPTION:Festgottesdienst in der Pfarrkirche St. Martin\, mitgestaltet v
 on den diesjährigen Erstkommunikanten.\nMusikalisch begleiten die Feier Fa
 bienne Bisig und Franz Hahn.\n 
DTSTART:20250619T093000
DTEND:20250619T103000
ORGANIZER:MAILTO:Pfarrei Galgenen <sekretariat@kg-galgenen.ch>
SUMMARY:Fronleichnam 
END:VEVENT
END:VCALENDAR
