BEGIN:VCALENDAR
VERSION:2.0
PRODID:-//Pfarrei Galgenen//NONSGML kigkonsult.se iCalcreator 2.16.12//
METHOD:PUBLISH
X-MS-OLK-FORCEINSPECTOROPEN:TRUE
BEGIN:VEVENT
UID:20260420T124739CEST-7920VXvjAx@Pfarrei Galgenen
DTSTAMP:20260420T104739Z
DESCRIPTION:Ökumenischer Gottesdienst\, gestaltet vom reformierten Pfarrer 
 Walter Albrecht und unserem Bruder Patrik Schäfli.\n 
DTSTART:20250622T093000
DTEND:20250622T103000
ORGANIZER:MAILTO:Pfarrei Galgenen <sekretariat@kg-galgenen.ch>
SUMMARY:Ökumenischer Gottesdienst 
END:VEVENT
END:VCALENDAR
