BEGIN:VCALENDAR
VERSION:2.0
PRODID:-//Pfarrei Galgenen//NONSGML kigkonsult.se iCalcreator 2.16.12//
METHOD:PUBLISH
X-MS-OLK-FORCEINSPECTOROPEN:TRUE
BEGIN:VEVENT
UID:20260420T164235CEST-7141KE0lKL@Pfarrei Galgenen
DTSTAMP:20260420T144235Z
DESCRIPTION:Toni Schnellmann wird eine öffentliche Kirchenführung zum Thema
  «Bilder» in der Pfarrkirche durchführen.\nSie sind herzlich eingeladen\, 
 daran teilzunehmen.\n 
DTSTART:20250622T103000
DTEND:20250622T113000
ORGANIZER:MAILTO:Pfarrei Galgenen <sekretariat@kg-galgenen.ch>
SUMMARY:JUBILÄUMSANLASS 
END:VEVENT
END:VCALENDAR
