BEGIN:VCALENDAR
VERSION:2.0
PRODID:-//Pfarrei Galgenen//NONSGML kigkonsult.se iCalcreator 2.16.12//
METHOD:PUBLISH
X-MS-OLK-FORCEINSPECTOROPEN:TRUE
BEGIN:VEVENT
UID:20260420T124740CEST-0828uul8gw@Pfarrei Galgenen
DTSTAMP:20260420T104740Z
DESCRIPTION:Im Sunntigskafi für ALLI sind sie herzlich eingeladen\, bei ein
 em gemütlichen Kafi/Chueche etwas \nzu plaudern und zu verweilen.\n 
DTSTART:20250629T100000
DTEND:20250629T120000
ORGANIZER:MAILTO:Pfarrei Galgenen <sekretariat@kg-galgenen.ch>
SUMMARY:Sunntigskafi für ALLI
END:VEVENT
END:VCALENDAR
