BEGIN:VCALENDAR
VERSION:2.0
PRODID:-//Pfarrei Galgenen//NONSGML kigkonsult.se iCalcreator 2.16.12//
METHOD:PUBLISH
X-MS-OLK-FORCEINSPECTOROPEN:TRUE
BEGIN:VEVENT
UID:20260420T130611CEST-6420e6SxUM@Pfarrei Galgenen
DTSTAMP:20260420T110611Z
DESCRIPTION:Ökumenischer Schulschluss Gottesdienst mit Corinne Mäder\, den 
 reformierten Katecheten\nAnnemarie Gisi und Alex Mörgeli (mit seiner Gitar
 re).\n\n 
DTSTART:20250630T081000
DTEND:20250630T090000
ORGANIZER:MAILTO:Pfarrei Galgenen <sekretariat@kg-galgenen.ch>
SUMMARY:Ökumenischer Schulschluss-Gottesdienst 
END:VEVENT
END:VCALENDAR
