BEGIN:VCALENDAR
VERSION:2.0
PRODID:-//Pfarrei Galgenen//NONSGML kigkonsult.se iCalcreator 2.16.12//
METHOD:PUBLISH
X-MS-OLK-FORCEINSPECTOROPEN:TRUE
BEGIN:VEVENT
UID:20260420T130554CEST-4825ve1baF@Pfarrei Galgenen
DTSTAMP:20260420T110554Z
DESCRIPTION:Familiengottesdienst im Tannligarten ob Galgenen\, mit dem Alph
 orntrio Stockberg-Echo.\nFestwirtschaft der Familien Schätti und Schwyter\
 , siehe Flyer unter Download.\nDas Glockenzeichen um 08.00 Uhr bedeutet Du
 rchführung im Tannligarten\, sonst Gottesdienst um 9.30 Uhr in der Pfarrki
 rche.\nFür eine allfällige Fahrgelegenheit melden Sie sich im Sekretariat.
 \n\n 
DTSTART:20250706T103000
DTEND:20250706T140000
ORGANIZER:MAILTO:Pfarrei Galgenen <sekretariat@kg-galgenen.ch>
SUMMARY:Tannligarten-Gottesdienst 
END:VEVENT
END:VCALENDAR
