BEGIN:VCALENDAR
VERSION:2.0
PRODID:-//Pfarrei Galgenen//NONSGML kigkonsult.se iCalcreator 2.16.12//
METHOD:PUBLISH
X-MS-OLK-FORCEINSPECTOROPEN:TRUE
BEGIN:VEVENT
UID:20260420T123716CEST-14944XsN8U@Pfarrei Galgenen
DTSTAMP:20260420T103716Z
DESCRIPTION:10.00-12.00 Uhr «Sunntigskafi für ALLI» im Martins-Träff.\nBei 
 Kaffee und Kuchen gemütlich zusammensitzen und plaudern\, wir freuen uns a
 uf SIE!\nIhr Sunntigskafi-Team\n 
DTSTART:20250727T100000
DTEND:20250727T120000
ORGANIZER:MAILTO:Pfarrei Galgenen <sekretariat@kg-galgenen.ch>
SUMMARY:Sunntigskafi für ALLI
END:VEVENT
END:VCALENDAR
