BEGIN:VCALENDAR
VERSION:2.0
PRODID:-//Pfarrei Galgenen//NONSGML kigkonsult.se iCalcreator 2.16.12//
METHOD:PUBLISH
X-MS-OLK-FORCEINSPECTOROPEN:TRUE
BEGIN:VEVENT
UID:20260424T103828CEST-1498vtlIjh@Pfarrei Galgenen
DTSTAMP:20260424T083828Z
DESCRIPTION:ACHTUNG:\nAm 1. August feiern wir KEINEN Gottesdienst!
DTSTART:20250801T000000
DTEND:20250801T000000
ORGANIZER:MAILTO:Pfarrei Galgenen <sekretariat@kg-galgenen.ch>
SUMMARY:Nationalfeiertag
END:VEVENT
END:VCALENDAR
