BEGIN:VCALENDAR
VERSION:2.0
PRODID:-//Pfarrei Galgenen//NONSGML kigkonsult.se iCalcreator 2.16.12//
METHOD:PUBLISH
X-MS-OLK-FORCEINSPECTOROPEN:TRUE
BEGIN:VEVENT
UID:20260420T124633CEST-7493SZbFgX@Pfarrei Galgenen
DTSTAMP:20260420T104633Z
DESCRIPTION:Festgottesdienst mit Pfarrer Martin Mätzler\, und Gabriela Stei
 ner an der Orgel.\n\n 
DTSTART:20250815T093000
DTEND:20250815T103000
ORGANIZER:MAILTO:Pfarrei Galgenen <sekretariat@kg-galgenen.ch>
SUMMARY:Maria Himmelfahrt 
END:VEVENT
END:VCALENDAR
