BEGIN:VCALENDAR
VERSION:2.0
PRODID:-//Pfarrei Galgenen//NONSGML kigkonsult.se iCalcreator 2.16.12//
METHOD:PUBLISH
X-MS-OLK-FORCEINSPECTOROPEN:TRUE
BEGIN:VEVENT
UID:20260420T123759CEST-8229aVUATS@Pfarrei Galgenen
DTSTAMP:20260420T103759Z
DESCRIPTION:Andacht bei der Maria Immerhilfkapelle\, musikalisch begleitet 
 von Stefan Kessler.\nNur bei günstiger Witterung!\nAuskunft Fam. Schwyter-
 Mächler Tel. 055 440 54 91\n 
DTSTART:20250815T193000
DTEND:20250815T200000
ORGANIZER:MAILTO:Pfarrei Galgenen <sekretariat@kg-galgenen.ch>
SUMMARY:Maria Himmelfahrt - Andacht bei der Maria Immerhilf Kapelle 
END:VEVENT
END:VCALENDAR
