BEGIN:VCALENDAR
VERSION:2.0
PRODID:-//Pfarrei Galgenen//NONSGML kigkonsult.se iCalcreator 2.16.12//
METHOD:PUBLISH
X-MS-OLK-FORCEINSPECTOROPEN:TRUE
BEGIN:VEVENT
UID:20260420T124834CEST-6361hN7DHk@Pfarrei Galgenen
DTSTAMP:20260420T104834Z
DESCRIPTION:Berggottesdienst beim Grabeneggkreuz\, mit dem Alphorntrio Stoc
 kberg-Echo.\nDas Glockenzeichen um 08.00 Uhr bedeutet Durchführung\,\nande
 rnfalls Gottesdienst um 9.30 Uhr in der Pfarrkirche\nEbenfalls Auskunft gi
 bt: Adelbert Hüppin (N: 079 902 90 37).\nFür eine allfällige Fahrgelegenhe
 it melden Sie sich im Sekretariat.\n 
DTSTART:20250817T103000
DTEND:20250817T113000
ORGANIZER:MAILTO:Pfarrei Galgenen <sekretariat@kg-galgenen.ch>
SUMMARY:Grabenegg Gottesdienst 
END:VEVENT
END:VCALENDAR
