BEGIN:VCALENDAR
VERSION:2.0
PRODID:-//Pfarrei Galgenen//NONSGML kigkonsult.se iCalcreator 2.16.12//
METHOD:PUBLISH
X-MS-OLK-FORCEINSPECTOROPEN:TRUE
BEGIN:VEVENT
UID:20260420T125855CEST-4147nblXFF@Pfarrei Galgenen
DTSTAMP:20260420T105855Z
DESCRIPTION:Familiengottesdienst Segensfeier mit den 1. Klassen.\nDiesen Go
 ttesdienst wird unsere Katechetin Jolanda Schnorf gemeinsam mit den Erstkl
 ässlern mitgestalten.\n 
DTSTART:20250831T093000
DTEND:20250831T103000
ORGANIZER:MAILTO:Pfarrei Galgenen <sekretariat@kg-galgenen.ch>
SUMMARY:Segensfeier mit den 1. Klassen von Galgenen
END:VEVENT
END:VCALENDAR
