BEGIN:VCALENDAR
VERSION:2.0
PRODID:-//Pfarrei Galgenen//NONSGML kigkonsult.se iCalcreator 2.16.12//
METHOD:PUBLISH
X-MS-OLK-FORCEINSPECTOROPEN:TRUE
BEGIN:VEVENT
UID:20260420T124748CEST-1290CzPwE2@Pfarrei Galgenen
DTSTAMP:20260420T104748Z
DESCRIPTION:In diesem Familien-Gottesdienst werden die neuen Ministranten a
 ufgenommen\,\nund die abtretenden verabschiedet.\nMusik: Jugendchor Feusis
 berg\, Leitung: Adeline Marty\n                           \nIm Anschluss B
 runch im Martins-Träff \n 
DTSTART:20250914T093000
DTEND:20250914T140000
ORGANIZER:MAILTO:Pfarrei Galgenen <sekretariat@kg-galgenen.ch>
SUMMARY:Ministrantenaufnahme/-verabschiedungs Gottesdienst
END:VEVENT
END:VCALENDAR
