BEGIN:VCALENDAR
VERSION:2.0
PRODID:-//Pfarrei Galgenen//NONSGML kigkonsult.se iCalcreator 2.16.12//
METHOD:PUBLISH
X-MS-OLK-FORCEINSPECTOROPEN:TRUE
BEGIN:VEVENT
UID:20260420T124823CEST-9173ImP7uz@Pfarrei Galgenen
DTSTAMP:20260420T104823Z
DESCRIPTION:Eucharistiefeier\, musikalisch von den Kantoren begleitet.\n 
DTSTART:20250921T093000
DTEND:20250921T103000
ORGANIZER:MAILTO:Pfarrei Galgenen <sekretariat@kg-galgenen.ch>
SUMMARY:Eidg. Dank\, Buss-\, und Bettag 
END:VEVENT
END:VCALENDAR
