BEGIN:VCALENDAR
VERSION:2.0
PRODID:-//Pfarrei Galgenen//NONSGML kigkonsult.se iCalcreator 2.16.12//
METHOD:PUBLISH
X-MS-OLK-FORCEINSPECTOROPEN:TRUE
BEGIN:VEVENT
UID:20260420T111207CEST-9168T0TsUB@Pfarrei Galgenen
DTSTAMP:20260420T091207Z
DESCRIPTION:Zu unserem Jubiläumsjahr findet in der Pfarrkirche St. Martin e
 in Konzert der Zürcher Sängerknaben statt.\nDer Eintritt ist frei\, Kollek
 te.\n 
DTSTART:20250921T170000
DTEND:20250922T190000
ORGANIZER:MAILTO:Pfarrei Galgenen <sekretariat@kg-galgenen.ch>
SUMMARY:Konzert der Zürcher Sängerknaben 
END:VEVENT
END:VCALENDAR
